Package: scDD Version: 1.31.0 Command: /Library/Frameworks/R.framework/Resources/bin/R CMD check --install=check:scDD.install-out.txt --library=/Library/Frameworks/R.framework/Resources/library --no-vignettes --timings scDD_1.31.0.tar.gz StartedAt: 2025-02-09 23:23:16 -0500 (Sun, 09 Feb 2025) EndedAt: 2025-02-09 23:28:36 -0500 (Sun, 09 Feb 2025) EllapsedTime: 320.0 seconds RetCode: 0 Status: OK CheckDir: scDD.Rcheck Warnings: 0