Package: scDD Version: 1.31.0 Command: /home/biocbuild/bbs-3.21-bioc/R/bin/R CMD build --keep-empty-dirs --no-resave-data scDD StartedAt: 2025-02-09 19:05:56 -0500 (Sun, 09 Feb 2025) EndedAt: 2025-02-09 19:07:59 -0500 (Sun, 09 Feb 2025) EllapsedTime: 123.1 seconds RetCode: 0 Status: OK PackageFile: scDD_1.31.0.tar.gz PackageFileSize: 846.7 KiB