Package: scDD Version: 1.31.0 Command: rm -rf scDD.buildbin-libdir && mkdir scDD.buildbin-libdir && E:\biocbuild\bbs-3.21-bioc\R\bin\R.exe CMD INSTALL --build --library=scDD.buildbin-libdir scDD_1.31.0.tar.gz StartedAt: 2025-02-10 08:38:21 -0500 (Mon, 10 Feb 2025) EndedAt: 2025-02-10 08:39:11 -0500 (Mon, 10 Feb 2025) EllapsedTime: 49.6 seconds RetCode: 0 Status: OK PackageFile: scDD_1.31.0.zip PackageFileSize: 1.005 MiB