Package: scDD Version: 1.31.0 Command: chmod a+r scDD -R && E:\biocbuild\bbs-3.21-bioc\R\bin\R.exe CMD build --keep-empty-dirs --no-resave-data scDD StartedAt: 2025-02-09 21:25:07 -0500 (Sun, 09 Feb 2025) EndedAt: 2025-02-09 21:31:48 -0500 (Sun, 09 Feb 2025) EllapsedTime: 401.5 seconds RetCode: 0 Status: OK PackageFile: scDD_1.31.0.tar.gz PackageFileSize: 848.4 KiB