Package: scDD Version: 1.31.0 Command: E:\biocbuild\bbs-3.21-bioc\R\bin\R.exe CMD check --no-multiarch --install=check:scDD.install-out.txt --library=E:\biocbuild\bbs-3.21-bioc\R\library --no-vignettes --timings scDD_1.31.0.tar.gz StartedAt: 2025-02-10 05:04:42 -0500 (Mon, 10 Feb 2025) EndedAt: 2025-02-10 05:13:28 -0500 (Mon, 10 Feb 2025) EllapsedTime: 526.0 seconds RetCode: 0 Status: OK CheckDir: scDD.Rcheck Warnings: 0