Package: scDDboost Version: 1.9.2 Maintainer: Xiuyu Ma MaintainerEmail: watsonforfun at gmail.com git_url: https://git.bioconductor.org/packages/scDDboost git_branch: devel git_last_commit: c913cbe git_last_commit_date: 2025-01-28 04:52:02 -0500 (Tue, 28 Jan 2025)