Package: scDDboost Version: 1.9.2 Command: rm -rf scDDboost.buildbin-libdir && mkdir scDDboost.buildbin-libdir && /Users/biocbuild/BBS/utils/build-universal.sh scDDboost_1.9.2.tar.gz /Library/Frameworks/R.framework/Resources/bin/R scDDboost.buildbin-libdir StartedAt: 2025-02-09 22:29:36 -0500 (Sun, 09 Feb 2025) EndedAt: 2025-02-09 22:29:59 -0500 (Sun, 09 Feb 2025) EllapsedTime: 23.5 seconds RetCode: 0 Status: OK PackageFile: scDDboost_1.9.2.tgz PackageFileSize: 980.2 KiB