Package: scDDboost Version: 1.9.2 Command: /Library/Frameworks/R.framework/Resources/bin/R CMD build --keep-empty-dirs --no-resave-data scDDboost StartedAt: 2025-02-09 17:30:41 -0500 (Sun, 09 Feb 2025) EndedAt: 2025-02-09 17:31:22 -0500 (Sun, 09 Feb 2025) EllapsedTime: 41.4 seconds RetCode: 0 Status: OK PackageFile: scDDboost_1.9.2.tar.gz PackageFileSize: 858.1 KiB