Package: scDDboost Version: 1.9.2 Command: /Library/Frameworks/R.framework/Resources/bin/R CMD check --install=check:scDDboost.install-out.txt --library=/Library/Frameworks/R.framework/Resources/library --no-vignettes --timings scDDboost_1.9.2.tar.gz StartedAt: 2025-02-09 21:10:53 -0500 (Sun, 09 Feb 2025) EndedAt: 2025-02-09 21:12:33 -0500 (Sun, 09 Feb 2025) EllapsedTime: 100.1 seconds RetCode: 0 Status: OK CheckDir: scDDboost.Rcheck Warnings: 0