Package: scDDboost Version: 1.9.2 Command: /home/biocbuild/R/R/bin/R CMD build --keep-empty-dirs --no-resave-data scDDboost StartedAt: 2025-01-29 02:02:08 -0000 (Wed, 29 Jan 2025) EndedAt: 2025-01-29 02:04:59 -0000 (Wed, 29 Jan 2025) EllapsedTime: 170.3 seconds RetCode: 0 Status: OK PackageFile: scDDboost_1.9.2.tar.gz PackageFileSize: 626.7 KiB