Package: scDDboost Version: 1.9.2 Command: /home/biocbuild/R/R/bin/R CMD INSTALL scDDboost StartedAt: 2025-01-29 20:14:57 -0000 (Wed, 29 Jan 2025) EndedAt: 2025-01-29 20:16:28 -0000 (Wed, 29 Jan 2025) EllapsedTime: 91.4 seconds RetCode: 0 Status: OK