Package: scDDboost Version: 1.9.2 Command: /Library/Frameworks/R.framework/Resources/bin/R CMD INSTALL scDDboost StartedAt: 2025-02-03 15:33:54 -0500 (Mon, 03 Feb 2025) EndedAt: 2025-02-03 15:35:07 -0500 (Mon, 03 Feb 2025) EllapsedTime: 72.7 seconds RetCode: 0 Status: OK