Package: scDDboost Version: 1.9.2 Command: /home/biocbuild/bbs-3.21-bioc/R/bin/R CMD build --keep-empty-dirs --no-resave-data scDDboost StartedAt: 2025-02-03 19:14:36 -0500 (Mon, 03 Feb 2025) EndedAt: 2025-02-03 19:16:13 -0500 (Mon, 03 Feb 2025) EllapsedTime: 97.1 seconds RetCode: 0 Status: OK PackageFile: scDDboost_1.9.2.tar.gz PackageFileSize: 811.7 KiB