Package: scDDboost Version: 1.9.2 Command: /home/biocbuild/bbs-3.21-bioc/R/bin/R CMD check --install=check:scDDboost.install-out.txt --library=/home/biocbuild/bbs-3.21-bioc/R/site-library --timings scDDboost_1.9.2.tar.gz StartedAt: 2025-02-10 02:16:26 -0500 (Mon, 10 Feb 2025) EndedAt: 2025-02-10 02:21:42 -0500 (Mon, 10 Feb 2025) EllapsedTime: 316.3 seconds RetCode: 0 Status: OK CheckDir: scDDboost.Rcheck Warnings: 0