Package: scDDboost Version: 1.9.2 Command: /home/biocbuild/bbs-3.21-bioc/R/bin/R CMD INSTALL scDDboost StartedAt: 2025-02-09 15:18:42 -0500 (Sun, 09 Feb 2025) EndedAt: 2025-02-09 15:19:44 -0500 (Sun, 09 Feb 2025) EllapsedTime: 61.9 seconds RetCode: 0 Status: OK