Package: scDDboost Version: 1.9.2 Command: rm -rf scDDboost.buildbin-libdir && mkdir scDDboost.buildbin-libdir && E:\biocbuild\bbs-3.21-bioc\R\bin\R.exe CMD INSTALL --build --library=scDDboost.buildbin-libdir scDDboost_1.9.2.tar.gz StartedAt: 2025-02-04 08:51:39 -0500 (Tue, 04 Feb 2025) EndedAt: 2025-02-04 08:53:30 -0500 (Tue, 04 Feb 2025) EllapsedTime: 111.0 seconds RetCode: 0 Status: OK PackageFile: scDDboost_1.9.2.zip PackageFileSize: 978 KiB