Package: scDDboost Version: 1.9.2 Command: chmod a+r scDDboost -R && E:\biocbuild\bbs-3.21-bioc\R\bin\R.exe CMD build --keep-empty-dirs --no-resave-data scDDboost StartedAt: 2025-02-09 21:25:08 -0500 (Sun, 09 Feb 2025) EndedAt: 2025-02-09 21:28:08 -0500 (Sun, 09 Feb 2025) EllapsedTime: 180.1 seconds RetCode: 0 Status: OK PackageFile: scDDboost_1.9.2.tar.gz PackageFileSize: 544.2 KiB