Package: scDDboost Version: 1.9.2 Command: E:\biocbuild\bbs-3.21-bioc\R\bin\R.exe CMD check --no-multiarch --install=check:scDDboost.install-out.txt --library=E:\biocbuild\bbs-3.21-bioc\R\library --no-vignettes --timings scDDboost_1.9.2.tar.gz StartedAt: 2025-02-04 05:31:19 -0500 (Tue, 04 Feb 2025) EndedAt: 2025-02-04 05:37:48 -0500 (Tue, 04 Feb 2025) EllapsedTime: 388.4 seconds RetCode: 0 Status: OK CheckDir: scDDboost.Rcheck Warnings: 0