Package: scDblFinder Version: 1.21.1 Command: rm -rf scDblFinder.buildbin-libdir && mkdir scDblFinder.buildbin-libdir && /Users/biocbuild/BBS/utils/build-universal.sh scDblFinder_1.21.1.tar.gz /Library/Frameworks/R.framework/Resources/bin/R scDblFinder.buildbin-libdir StartedAt: 2025-02-09 22:29:31 -0500 (Sun, 09 Feb 2025) EndedAt: 2025-02-09 22:29:49 -0500 (Sun, 09 Feb 2025) EllapsedTime: 18.4 seconds RetCode: 0 Status: OK PackageFile: scDblFinder_1.21.1.tgz PackageFileSize: 2.431 MiB