Package: scDblFinder Version: 1.21.1 Command: /Library/Frameworks/R.framework/Resources/bin/R CMD build --keep-empty-dirs --no-resave-data scDblFinder StartedAt: 2025-02-09 17:30:20 -0500 (Sun, 09 Feb 2025) EndedAt: 2025-02-09 17:31:28 -0500 (Sun, 09 Feb 2025) EllapsedTime: 67.7 seconds RetCode: 0 Status: OK PackageFile: scDblFinder_1.21.1.tar.gz PackageFileSize: 2.25 MiB