Package: scDblFinder Version: 1.21.1 Command: /Library/Frameworks/R.framework/Resources/bin/R CMD INSTALL scDblFinder StartedAt: 2025-02-09 15:25:09 -0500 (Sun, 09 Feb 2025) EndedAt: 2025-02-09 15:25:26 -0500 (Sun, 09 Feb 2025) EllapsedTime: 16.4 seconds RetCode: 0 Status: OK