Package: scDblFinder Version: 1.21.1 Command: /Library/Frameworks/R.framework/Resources/bin/R CMD check --install=check:scDblFinder.install-out.txt --library=/Library/Frameworks/R.framework/Resources/library --no-vignettes --timings scDblFinder_1.21.1.tar.gz StartedAt: 2025-02-09 23:23:13 -0500 (Sun, 09 Feb 2025) EndedAt: 2025-02-09 23:29:50 -0500 (Sun, 09 Feb 2025) EllapsedTime: 397.1 seconds RetCode: 0 Status: OK CheckDir: scDblFinder.Rcheck Warnings: 0