Package: scDblFinder Version: 1.21.1 Command: /Library/Frameworks/R.framework/Resources/bin/R CMD INSTALL scDblFinder StartedAt: 2025-02-09 15:41:02 -0500 (Sun, 09 Feb 2025) EndedAt: 2025-02-09 15:41:58 -0500 (Sun, 09 Feb 2025) EllapsedTime: 56.4 seconds RetCode: 0 Status: OK