Package: scDblFinder Version: 1.21.1 Command: /home/biocbuild/bbs-3.21-bioc/R/bin/R CMD build --keep-empty-dirs --no-resave-data scDblFinder StartedAt: 2025-02-09 19:05:51 -0500 (Sun, 09 Feb 2025) EndedAt: 2025-02-09 19:08:20 -0500 (Sun, 09 Feb 2025) EllapsedTime: 149.2 seconds RetCode: 0 Status: OK PackageFile: scDblFinder_1.21.1.tar.gz PackageFileSize: 2.183 MiB