Package: scDblFinder Version: 1.21.1 Command: /home/biocbuild/bbs-3.21-bioc/R/bin/R CMD check --install=check:scDblFinder.install-out.txt --library=/home/biocbuild/bbs-3.21-bioc/R/site-library --timings scDblFinder_1.21.1.tar.gz StartedAt: 2025-02-10 02:16:11 -0500 (Mon, 10 Feb 2025) EndedAt: 2025-02-10 02:25:35 -0500 (Mon, 10 Feb 2025) EllapsedTime: 564.6 seconds RetCode: 0 Status: OK CheckDir: scDblFinder.Rcheck Warnings: 0