Package: scDblFinder Version: 1.21.1 Command: rm -rf scDblFinder.buildbin-libdir && mkdir scDblFinder.buildbin-libdir && E:\biocbuild\bbs-3.21-bioc\R\bin\R.exe CMD INSTALL --build --library=scDblFinder.buildbin-libdir scDblFinder_1.21.1.tar.gz StartedAt: 2025-02-10 08:38:19 -0500 (Mon, 10 Feb 2025) EndedAt: 2025-02-10 08:39:31 -0500 (Mon, 10 Feb 2025) EllapsedTime: 72.0 seconds RetCode: 0 Status: OK PackageFile: scDblFinder_1.21.1.zip PackageFileSize: 2.054 MiB