Package: scDblFinder Version: 1.21.1 Command: chmod a+r scDblFinder -R && E:\biocbuild\bbs-3.21-bioc\R\bin\R.exe CMD build --keep-empty-dirs --no-resave-data scDblFinder StartedAt: 2025-02-09 21:25:01 -0500 (Sun, 09 Feb 2025) EndedAt: 2025-02-09 21:28:54 -0500 (Sun, 09 Feb 2025) EllapsedTime: 233.2 seconds RetCode: 0 Status: OK PackageFile: scDblFinder_1.21.1.tar.gz PackageFileSize: 1.863 MiB