Package: scDblFinder Version: 1.21.1 Command: E:\biocbuild\bbs-3.21-bioc\R\bin\R.exe CMD check --no-multiarch --install=check:scDblFinder.install-out.txt --library=E:\biocbuild\bbs-3.21-bioc\R\library --no-vignettes --timings scDblFinder_1.21.1.tar.gz StartedAt: 2025-02-10 05:04:34 -0500 (Mon, 10 Feb 2025) EndedAt: 2025-02-10 05:11:25 -0500 (Mon, 10 Feb 2025) EllapsedTime: 411.4 seconds RetCode: 0 Status: OK CheckDir: scDblFinder.Rcheck Warnings: 0