Package: scDesign3 Version: 1.5.0 Command: /Library/Frameworks/R.framework/Resources/bin/R CMD build --keep-empty-dirs --no-resave-data scDesign3 StartedAt: 2025-02-04 17:31:06 -0500 (Tue, 04 Feb 2025) EndedAt: 2025-02-04 17:31:47 -0500 (Tue, 04 Feb 2025) EllapsedTime: 40.4 seconds RetCode: 0 Status: OK PackageFile: scDesign3_1.5.0.tar.gz PackageFileSize: 1007 KiB