Package: scDesign3 Version: 1.5.0 Command: /Library/Frameworks/R.framework/Resources/bin/R CMD check --install=check:scDesign3.install-out.txt --library=/Library/Frameworks/R.framework/Resources/library --no-vignettes --timings scDesign3_1.5.0.tar.gz StartedAt: 2025-02-09 21:11:36 -0500 (Sun, 09 Feb 2025) EndedAt: 2025-02-09 21:12:35 -0500 (Sun, 09 Feb 2025) EllapsedTime: 58.7 seconds RetCode: 0 Status: OK CheckDir: scDesign3.Rcheck Warnings: 0