Package: scDesign3 Version: 1.5.0 Command: /Library/Frameworks/R.framework/Resources/bin/R CMD INSTALL scDesign3 StartedAt: 2025-02-09 15:22:02 -0500 (Sun, 09 Feb 2025) EndedAt: 2025-02-09 15:22:06 -0500 (Sun, 09 Feb 2025) EllapsedTime: 3.3 seconds RetCode: 0 Status: OK