Package: scDesign3 Version: 1.5.0 Command: /home/biocbuild/bbs-3.21-bioc/R/bin/R CMD build --keep-empty-dirs --no-resave-data scDesign3 StartedAt: 2025-02-09 19:06:16 -0500 (Sun, 09 Feb 2025) EndedAt: 2025-02-09 19:07:43 -0500 (Sun, 09 Feb 2025) EllapsedTime: 87.1 seconds RetCode: 0 Status: OK PackageFile: scDesign3_1.5.0.tar.gz PackageFileSize: 901.9 KiB