Package: scDesign3 Version: 1.5.0 Command: /home/biocbuild/bbs-3.21-bioc/R/bin/R CMD INSTALL scDesign3 StartedAt: 2025-02-09 15:35:51 -0500 (Sun, 09 Feb 2025) EndedAt: 2025-02-09 15:36:00 -0500 (Sun, 09 Feb 2025) EllapsedTime: 8.6 seconds RetCode: 0 Status: OK