Package: scDesign3 Version: 1.5.0 Command: rm -rf scDesign3.buildbin-libdir && mkdir scDesign3.buildbin-libdir && E:\biocbuild\bbs-3.21-bioc\R\bin\R.exe CMD INSTALL --build --library=scDesign3.buildbin-libdir scDesign3_1.5.0.tar.gz StartedAt: 2025-02-10 08:38:34 -0500 (Mon, 10 Feb 2025) EndedAt: 2025-02-10 08:38:55 -0500 (Mon, 10 Feb 2025) EllapsedTime: 20.3 seconds RetCode: 0 Status: OK PackageFile: scDesign3_1.5.0.zip PackageFileSize: 922.8 KiB