Package: scDesign3 Version: 1.5.0 Command: chmod a+r scDesign3 -R && E:\biocbuild\bbs-3.21-bioc\R\bin\R.exe CMD build --keep-empty-dirs --no-resave-data scDesign3 StartedAt: 2025-02-12 21:32:15 -0500 (Wed, 12 Feb 2025) EndedAt: 2025-02-12 21:34:58 -0500 (Wed, 12 Feb 2025) EllapsedTime: 163.6 seconds RetCode: 0 Status: OK PackageFile: scDesign3_1.5.0.tar.gz PackageFileSize: 780 KiB