Package: scDiagnostics Version: 1.1.0 Command: rm -rf scDiagnostics.buildbin-libdir && mkdir scDiagnostics.buildbin-libdir && /Users/biocbuild/BBS/utils/build-universal.sh scDiagnostics_1.1.0.tar.gz /Library/Frameworks/R.framework/Resources/bin/R scDiagnostics.buildbin-libdir StartedAt: 2025-02-09 22:29:40 -0500 (Sun, 09 Feb 2025) EndedAt: 2025-02-09 22:29:52 -0500 (Sun, 09 Feb 2025) EllapsedTime: 12.3 seconds RetCode: 0 Status: OK PackageFile: scDiagnostics_1.1.0.tgz PackageFileSize: 3.816 MiB