Package: scDiagnostics Version: 1.1.0 Command: /Library/Frameworks/R.framework/Resources/bin/R CMD build --keep-empty-dirs --no-resave-data scDiagnostics StartedAt: 2025-02-09 17:31:02 -0500 (Sun, 09 Feb 2025) EndedAt: 2025-02-09 17:32:32 -0500 (Sun, 09 Feb 2025) EllapsedTime: 90.0 seconds RetCode: 0 Status: OK PackageFile: scDiagnostics_1.1.0.tar.gz PackageFileSize: 3.62 MiB