Package: scDiagnostics Version: 1.1.0 Command: /Library/Frameworks/R.framework/Resources/bin/R CMD check --install=check:scDiagnostics.install-out.txt --library=/Library/Frameworks/R.framework/Resources/library --no-vignettes --timings scDiagnostics_1.1.0.tar.gz StartedAt: 2025-02-09 21:11:39 -0500 (Sun, 09 Feb 2025) EndedAt: 2025-02-09 21:14:28 -0500 (Sun, 09 Feb 2025) EllapsedTime: 168.9 seconds RetCode: 0 Status: OK CheckDir: scDiagnostics.Rcheck Warnings: 0