Package: scDiagnostics Version: 1.1.0 Command: /Library/Frameworks/R.framework/Resources/bin/R CMD check --install=check:scDiagnostics.install-out.txt --library=/Library/Frameworks/R.framework/Resources/library --no-vignettes --timings scDiagnostics_1.1.0.tar.gz StartedAt: 2025-02-12 23:08:15 -0500 (Wed, 12 Feb 2025) EndedAt: 2025-02-12 23:16:09 -0500 (Wed, 12 Feb 2025) EllapsedTime: 474.3 seconds RetCode: 0 Status: OK CheckDir: scDiagnostics.Rcheck Warnings: 0