Package: scDiagnostics Version: 1.1.0 Command: /home/biocbuild/bbs-3.21-bioc/R/bin/R CMD build --keep-empty-dirs --no-resave-data scDiagnostics StartedAt: 2025-02-09 19:06:28 -0500 (Sun, 09 Feb 2025) EndedAt: 2025-02-09 19:09:45 -0500 (Sun, 09 Feb 2025) EllapsedTime: 196.3 seconds RetCode: 0 Status: OK PackageFile: scDiagnostics_1.1.0.tar.gz PackageFileSize: 3.619 MiB