Package: scDiagnostics Version: 1.1.0 Command: /home/biocbuild/bbs-3.21-bioc/R/bin/R CMD INSTALL scDiagnostics StartedAt: 2025-02-09 15:18:38 -0500 (Sun, 09 Feb 2025) EndedAt: 2025-02-09 15:19:04 -0500 (Sun, 09 Feb 2025) EllapsedTime: 25.6 seconds RetCode: 0 Status: OK