Package: scDiagnostics Version: 1.1.0 Command: chmod a+r scDiagnostics -R && E:\biocbuild\bbs-3.21-bioc\R\bin\R.exe CMD build --keep-empty-dirs --no-resave-data scDiagnostics StartedAt: 2025-02-12 21:32:16 -0500 (Wed, 12 Feb 2025) EndedAt: 2025-02-12 21:37:21 -0500 (Wed, 12 Feb 2025) EllapsedTime: 305.3 seconds RetCode: 0 Status: OK PackageFile: scDiagnostics_1.1.0.tar.gz PackageFileSize: 3.621 MiB