Package: scFeatures Version: 1.7.0 Command: rm -rf scFeatures.buildbin-libdir && mkdir scFeatures.buildbin-libdir && /Users/biocbuild/BBS/utils/build-universal.sh scFeatures_1.7.0.tar.gz /Library/Frameworks/R.framework/Resources/bin/R scFeatures.buildbin-libdir StartedAt: 2025-02-09 22:29:44 -0500 (Sun, 09 Feb 2025) EndedAt: 2025-02-09 22:30:10 -0500 (Sun, 09 Feb 2025) EllapsedTime: 25.5 seconds RetCode: 0 Status: OK PackageFile: scFeatures_1.7.0.tgz PackageFileSize: 3.068 MiB