Package: scFeatures Version: 1.7.0 Command: /Library/Frameworks/R.framework/Resources/bin/R CMD INSTALL scFeatures StartedAt: 2025-02-09 15:25:56 -0500 (Sun, 09 Feb 2025) EndedAt: 2025-02-09 15:26:20 -0500 (Sun, 09 Feb 2025) EllapsedTime: 23.8 seconds RetCode: 0 Status: OK