Package: scFeatures Version: 1.7.0 Command: /Library/Frameworks/R.framework/Resources/bin/R CMD INSTALL scFeatures StartedAt: 2025-02-09 15:42:34 -0500 (Sun, 09 Feb 2025) EndedAt: 2025-02-09 15:43:54 -0500 (Sun, 09 Feb 2025) EllapsedTime: 80.5 seconds RetCode: 0 Status: OK