Package: scFeatures Version: 1.7.0 Command: rm -rf scFeatures.buildbin-libdir && mkdir scFeatures.buildbin-libdir && E:\biocbuild\bbs-3.21-bioc\R\bin\R.exe CMD INSTALL --build --library=scFeatures.buildbin-libdir scFeatures_1.7.0.tar.gz StartedAt: 2025-02-10 08:39:00 -0500 (Mon, 10 Feb 2025) EndedAt: 2025-02-10 08:40:33 -0500 (Mon, 10 Feb 2025) EllapsedTime: 93.0 seconds RetCode: 0 Status: OK PackageFile: scFeatures_1.7.0.zip PackageFileSize: 3.02 MiB