Package: scFeatures Version: 1.7.0 Command: chmod a+r scFeatures -R && E:\biocbuild\bbs-3.21-bioc\R\bin\R.exe CMD build --keep-empty-dirs --no-resave-data scFeatures StartedAt: 2025-02-12 21:32:47 -0500 (Wed, 12 Feb 2025) EndedAt: 2025-02-12 21:36:43 -0500 (Wed, 12 Feb 2025) EllapsedTime: 236.3 seconds RetCode: 0 Status: OK PackageFile: scFeatures_1.7.0.tar.gz PackageFileSize: 2.879 MiB