Package: scGPS Version: 1.21.0 Command: /Library/Frameworks/R.framework/Resources/bin/R CMD INSTALL scGPS StartedAt: 2025-02-09 15:23:42 -0500 (Sun, 09 Feb 2025) EndedAt: 2025-02-09 15:24:01 -0500 (Sun, 09 Feb 2025) EllapsedTime: 18.8 seconds RetCode: 0 Status: OK