Package: scGPS Version: 1.21.0 Command: /Library/Frameworks/R.framework/Resources/bin/R CMD check --install=check:scGPS.install-out.txt --library=/Library/Frameworks/R.framework/Resources/library --no-vignettes --timings scGPS_1.21.0.tar.gz StartedAt: 2025-02-09 23:24:26 -0500 (Sun, 09 Feb 2025) EndedAt: 2025-02-09 23:33:18 -0500 (Sun, 09 Feb 2025) EllapsedTime: 532.8 seconds RetCode: 0 Status: OK CheckDir: scGPS.Rcheck Warnings: 0