Package: scGPS Version: 1.21.0 Command: /Library/Frameworks/R.framework/Resources/bin/R CMD INSTALL scGPS StartedAt: 2025-02-09 15:37:30 -0500 (Sun, 09 Feb 2025) EndedAt: 2025-02-09 15:38:38 -0500 (Sun, 09 Feb 2025) EllapsedTime: 68.7 seconds RetCode: 0 Status: OK